{"text_format":"2","workbook":"xlsx","n_sheets":1,"sheets":["Лист1"],"not_rendered":{"charts":0,"images":0,"macros":0,"external_links":0,"defined_names":0,"comments":0,"pivot_tables":0},"unopened":[],"bounds":{"document_bytes":16777216,"sheet_cells":100000,"run_cost":"one","rows_first":2000,"rows_last":500,"rows_between":2000,"halvings":0,"cell_chars":16384,"cell_head_chars":4096},"cells_cut":0,"cells_raw":0,"read":"whole","date_system":"1900"}

{"sheet":"Лист1","index":0,"n_rows":235,"n_cols":12,"rows_kept":235,"cut":false,"hidden":false,"merged":[[0,2,0,4],[0,7,0,10],[1,7,1,10],[24,2,24,3],[43,2,43,3],[62,2,62,3],[81,2,81,3],[100,2,100,3],[119,2,119,3],[138,2,138,3],[157,2,157,3],[176,2,176,3],[195,2,195,3],[214,2,214,3],[233,2,233,3],[234,2,234,4]]}
["Школа",null,"МКОУ \"Малокозыревская ООШ\"",null,null,"Утвердил:","должность","Директор школы"]
["Типовое примерное меню приготавливаемых блюд",{"$nulls":5},"фамилия","Нухбегов К.Н."]
["Возрастная категория",null,null,null,"7-11 лет",null,"дата",1,10,2023]
[{"$nulls":7},"день","месяц","год"]
["Неделя","День недели","Прием пищи","Раздел меню","Блюда","Вес блюда, г","Белки","Жиры","Углеводы","Калорийность","№ рецептуры","Цена"]
[1,1,"Завтрак","гор.блюдо","Суп молочный с рисом",200,132.4,4.82,3.21,30.11,35,14.635]
[null,null,null,"закуска","Яйцо отварное",40,63,5.08,4.6,0.28,8,8.013]
[null,null,null,"гор.напиток","Чай с сахаром",200,0,0.05,4.11,0.58,20,1.862]
[{"$nulls":4},"Йогурт",115,28,0,0,13.45,null,32.2]
[{"$nulls":4},"Кексы",33.33,60.5,4.33,2.01,11.98,null,3.68]
[null,null,null,"фрукты","яблоки  ",100,8.4,0.1,0.38,6.01,null,9]
[null,null,null,"хлеб","Хлеб пшеничный",40,40.92,0.55,0.55,13.64,null,2.32]
[]
[null,null,null,"итого",null,{"$f":"SUM(F6:F13)","v":728.33},{"$f":"SUM(G6:G13)","v":333.22},14.93,14.86,76.05,null,{"$f":"SUM(L6:L13)","v":71.71}]
[{"$f":"A6","v":1},{"$f":"B6","v":1},"Обед","закуска"]
[null,null,null,"1 блюдо","Борщ с капустой и картофелем ",200,1.45,12.85,21.2,184.3,27,16.383]
[null,null,null,"2 блюдо","Каша ячневая рассыпчатая с люля","120\\45",13.06,11.8,36.1,287,9,38.617]
[null,null,null,"напиток","Чай с сахаром",200,0,0.05,4.11,0.58,20,1.71]
[null,null,null,"хлеб","Хлеб пшеничный",40,3.92,0.48,19.88,152.32,null,2.32]
[null,null,null,"фрукты","яблоки  ",100,0.55,0.55,13.64,40.92,null,9]
[{"$nulls":4},"Печенье",16,1.1,0.75,10,20.65,null,3.68]
[]
[]
[null,null,null,"итого",null,{"$f":"SUM(F15:F23)","v":556},{"$f":"SUM(G15:G23)","v":20.08},26.48,104.93,685.77,null,{"$f":"SUM(L15:L23)","v":71.71}]
[{"$f":"A6","v":1},{"$f":"B6","v":1},"Итого за день:",null,null,{"$f":"F14+F24","v":1284.33},{"$f":"G14+G24","v":353.3},41.41,119.79,761.82,null,{"$f":"L14+L24","v":143.42}]
[1,2,"Завтрак","гор.блюдо","Макароны отварные",125,5.52,4.52,26.45,132.5,10,4.7314]
[{"$nulls":4},"Биточки из курицы",45,9.18,11.93,6.49,118.98,45,26.665]
[null,null,null,"напиток","Сок осветленный ",200,1.06,0,12.83,85.11,49,15.895]
[{"$nulls":4},"Кексы",33.33,0.1,0.38,6.01,8.4,null,13.9986]
[null,null,null,"фрукты","Яблоки",90,0.5,0.5,12.28,36.83,null,8.1]
[null,null,null,"хлеб","Хлеб пшеничный",40,3.92,0.48,19.88,152.32,null,2.32]
[]
[null,null,null,"итого",null,{"$f":"SUM(F26:F32)","v":533.33},{"$f":"SUM(G26:G32)","v":20.28},{"$f":"SUM(H26:H32)","v":17.81},{"$f":"SUM(I26:I32)","v":83.94},{"$f":"SUM(J26:J32)","v":534.14},null,71.71]
[{"$f":"A26","v":1},{"$f":"B26","v":2},"Обед","закуска"]
[null,null,null,"1 блюдо","Суп гороховый вегит.",200,3.19,3.24,8.86,120.5,56,3.9874]
[null,null,null,"2 блюдо","Пюре картофельное  с люля","210\\45","13.30",10.3,34.3,"146.88",39,41.594]
[null,null,null,"хлеб","Хлеб пшеничный",40,3.92,0.48,19.88,152.32,null,2.32]
[{"$nulls":4},"Кексы",33.33,0.1,0.38,6.01,8.4,null,13.9986]
[null,null,null,"гор.напиток","Чай с сахаром",200,0,0,13.45,28,20,1.71]
[null,null,null,"фрукты","Яблоки",90,0.5,0.5,12.28,36.83,null,8.1]
[]
[]
[null,null,null,"итого",null,{"$f":"SUM(F34:F42)","v":563.33},{"$f":"SUM(G34:G42)","v":7.71},{"$f":"SUM(H34:H42)","v":14.9},{"$f":"SUM(I34:I42)","v":94.78},{"$f":"SUM(J34:J42)","v":346.05},null,71.71]
[{"$f":"A26","v":1},{"$f":"B26","v":2},"Итого за день:",null,null,{"$f":"F33+F43","v":1096.66},{"$f":"G33+G43","v":27.99},{"$f":"H33+H43","v":32.71},{"$f":"I33+I43","v":178.72},{"$f":"J33+J43","v":880.19},null,143.42]
[1,3,"Завтрак","гор.блюдо","Каша гречневая рассыпчатая с тефтелями","126\\45",19,9.87,16.83,286,9,36.619]
[null,null,null,"закуска","Салат из капусты с горошком",47,1.09,2.13,3.08,36.1,43,4.751]
[null,null,null,"напиток","Сок осветленный ",196,1.03,0,12.55,83.36,null,16.15]
[{"$nulls":4},"Кексы",33.33,0.1,0.38,6.01,8.4,null,3.68]
[null,null,null,"фрукты","Яблоко",95,0.47,0.47,11.7,37.44,null,8.19]
[null,null,null,"хлеб бел.","Хлеб пшеничный",40,3.92,0.48,19.88,152.32,null,2.32]
[]
[null,null,null,"итого",null,{"$f":"SUM(F45:F51)","v":411.33},{"$f":"SUM(G45:G51)","v":25.61},{"$f":"SUM(H45:H51)","v":13.33},{"$f":"SUM(I45:I51)","v":70.05},{"$f":"SUM(J45:J51)","v":603.62},null,71.71]
[{"$f":"A45","v":1},{"$f":"B45","v":3},"Обед","закуска"]
[null,null,null,"1 блюдо","Щи из капусты с курицей",250,2,5,11,100,54,16.497]
[null,null,null,"2 блюдо","Макароны отварные с тефтелями","125\\45",13,11.73,34.3,246,10,38.351]
[null,null,null,"хлеб бел.","Хлеб пшеничный",40,3.92,0.48,19.88,152.32,null,2.32]
[{"$nulls":4},"Печенье",16,1.1,0.75,10,20.65,null,3.68]
[null,null,null,"гор.напиток","Чай с сахаром",200,0,0,13.45,28,20,1.862]
[null,null,null,"фрукты","Яблоки",90,0.5,0.5,12.28,36.83,null,9]
[]
[]
[null,null,null,"итого",null,{"$f":"SUM(F53:F61)","v":596},{"$f":"SUM(G53:G61)","v":20.52},{"$f":"SUM(H53:H61)","v":18.46},{"$f":"SUM(I53:I61)","v":100.91},{"$f":"SUM(J53:J61)","v":583.8},null,71.71]
[{"$f":"A45","v":1},{"$f":"B45","v":3},"Итого за день:",null,null,{"$f":"F52+F62","v":1007.33},{"$f":"G52+G62","v":46.13},{"$f":"H52+H62","v":31.79},{"$f":"I52+I62","v":170.96},{"$f":"J52+J62","v":1187.42},null,143.42]
[1,4,"Завтрак","гор.блюдо","Каша гречневая с куриной котлетой","150\\45",20.62,8.37,17.77,303,9,32.668]
[null,null,null,"закуска","Яйцо отварное",40,5.08,4.6,0.28,63,8,8.01]
[null,null,null,"хлеб бел.","Хлеб пшеничный",40,152.32,152.32,152.32,152.32,null,2.32]
[null,null,null,"напиток","Чай с сахаром",200,0,0,13.45,28,20,1.862]
[null,null,null,"фрукты","Яблоко",90,0.48,0.48,11.78,35.34,null,9]
[{"$nulls":4},"Мини рулеты (бисквитные)",35,1.4,6.65,19.95,147,null,17.85]
[]
[null,null,null,"итого",null,{"$f":"SUM(F64:F70)","v":405},{"$f":"SUM(G64:G70)","v":179.9},{"$f":"SUM(H64:H70)","v":172.42},{"$f":"SUM(I64:I70)","v":215.55},{"$f":"SUM(J64:J70)","v":728.66},null,71.71]
[{"$f":"A64","v":1},{"$f":"B64","v":4},"Обед","закуска","Йогурт",115,4.33,2.01,11.98,60.5,null,32.2]
[null,null,null,"1 блюдо","Вареник со сметаной",120,11.27,10.7,17.34,284.13,42,21.66]
[null,null,null,"хлеб бел.","Хлеб пшеничный",40,3.92,0.48,19.88,152.32,null,2.32]
[null,null,null,"гор.напиток","Чай с сахаром",200,0,0,13.45,28,20,1.71]
[null,null,null,"фрукты","Яблоки",90,0.5,0.5,12.28,36.83,null,8.82]
[{"$nulls":4},"Вафли",20,0.82,5.4,12,61.25,null,5]
[]
[]
[]
[null,null,null,"итого",null,{"$f":"SUM(F72:F80)","v":585},{"$f":"SUM(G72:G80)","v":20.84},{"$f":"SUM(H72:H80)","v":19.09},{"$f":"SUM(I72:I80)","v":86.93},{"$f":"SUM(J72:J80)","v":623.03},null,71.71]
[{"$f":"A64","v":1},{"$f":"B64","v":4},"Итого за день:",null,null,{"$f":"F71+F81","v":990},{"$f":"G71+G81","v":200.74},{"$f":"H71+H81","v":191.51},{"$f":"I71+I81","v":302.48},{"$f":"J71+J81","v":1351.69},null,143.42]
[1,5,"Завтрак","гор.блюдо","Говяжий люля-кебаб с подливой","100\\45",9,8,19.57,199,55,35.491]
[null,null,null,"2 блюдо","Картофельное пюре",210,9.59,17.68,83.86,348.29,2,10.0004]
[null,null,null,"гор.напиток","Чай с сахаром",200,0,0,13.45,28,20,1.71]
[{"$nulls":4},"Кексы",33,0.1,0.38,6.01,8.4,null,13.9986]
[null,null,null,"фрукты","Яблоко",100,0.53,0.53,12.46,37.4,null,8.19]
[null,null,null,"хлеб","Хлеб  пшеничный ",40,3.92,0.48,19.88,152.32,null,2.32]
[]
[null,null,null,"итого",null,{"$f":"SUM(F83:F89)","v":583},{"$f":"SUM(G83:G89)","v":23.14},{"$f":"SUM(H83:H89)","v":27.07},{"$f":"SUM(I83:I89)","v":155.23},{"$f":"SUM(J83:J89)","v":773.41},null,71.71]
[{"$f":"A83","v":1},{"$f":"B83","v":5},"Обед","закуска"]
[null,null,null,"1 блюдо","Суп харчо с курицей",250,6.89,1.9,6.58,85.79,36,13.48]
[null,null,null,"2 блюдо","Макароны отварные с куриной котлетой","125\\45",17.67,14.67,36.89,132.5,10,31.2014]
[null,null,null,"напиток","Чай с сахаром",200,0,0,13.45,28,20,1.71]
[null,null,null,"хлеб бел.","Хлеб  пшеничный",40,3.92,0.48,19.88,152.32,null,2.32]
[null,null,null,"фрукты","Яблоки",90,0.5,0.5,12.28,36.83,null,9]
[{"$nulls":4},"Кексы","33.33",0.1,0.38,6.01,8.4,null,13.9986]
[]
[]
[null,null,null,"итого",null,{"$f":"SUM(F91:F99)","v":580},{"$f":"SUM(G91:G99)","v":29.08},{"$f":"SUM(H91:H99)","v":17.93},{"$f":"SUM(I91:I99)","v":95.09},{"$f":"SUM(J91:J99)","v":443.84},null,71.71]
[{"$f":"A64","v":1},5,"Итого за день:",null,null,{"$f":"F71+F81","v":990},{"$f":"G71+G81","v":200.74},{"$f":"H71+H81","v":191.51},{"$f":"I71+I81","v":302.48},{"$f":"J71+J81","v":1351.69},null,{"$f":"L71+L81","v":143.42}]
[1,6,"Завтрак","гор.блюдо"]
[]
[null,null,null,"гор.напиток"]
[null,null,null,"хлеб"]
[null,null,null,"фрукты"]
[]
[]
[null,null,null,"итого",null,{"$f":"SUM(F102:F108)","v":0},{"$f":"SUM(G102:G108)","v":0},0,0,0,null,{"$f":"SUM(L102:L108)","v":0}]
[1,{"$f":"B102","v":6},"Обед","закуска"]
[null,null,null,"1 блюдо","Суп молочный с рисом",220,4.82,3.21,30.11,132.4,35,11.793]
[null,null,null,"2 блюдо","Каша пшеничная с куриной котлетой","125 \\45",8.2,8.42,26.45,276,9,32.8884]
[null,null,null,"хлеб бел.","Хлеб  пшеничный",40,3.92,0.48,19.88,152.32,null,2.32]
[null,null,null,"напиток","Чай с сахаром",200,0,0,13.45,28,20,1.71]
[null,null,null,"хлеб бел.","Кексы",33.33,15.24,1,21,34.45,null,13.9986]
[{"$nulls":4},"Яблоко",108,0.1,0.38,6.01,8.4,null,9]
[]
[]
[null,null,null,"итого",null,{"$f":"SUM(F110:F118)","v":601.33},{"$f":"SUM(G110:G118)","v":32.28},13.49,116.9,631.57,null,{"$f":"SUM(L110:L118)","v":71.71}]
[{"$f":"A83","v":1},6,"Итого за день:",null,null,{"$f":"F90+F100","v":1163},{"$f":"G90+G100","v":52.22},{"$f":"H90+H100","v":45},{"$f":"I90+I100","v":250.32},{"$f":"J90+J100","v":1217.25},null,{"$f":"L90+L100","v":143.42}]
[2,1,"Завтрак","гор.блюдо","Плов с курицей",225,25.95,23.76,26.55,425.18,4,18.041]
[null,null,null,"хлеб","Хлеб пшеничный с маслом",40,3.92,0.48,19.88,152.32,null,2.32]
[null,null,null,"закуска","Яйцо отварное",40,5.08,4.6,0.28,63,8,8.014]
[null,null,null,"фрукты","Яблоки",99,0.55,0.55,13.64,40.92,null,8.91]
[{"$nulls":4},"Мини рулеты (бисквитные)",35,1.4,6.65,19.95,147,null,17.85]
[null,null,null,"напиток","Сок осветленный ",195,1.06,0,12.83,85.11,null,16.575]
[]
[null,null,null,"итого",null,{"$f":"SUM(F121:F127)","v":634},{"$f":"SUM(G121:G127)","v":37.96},36.04,93.13,913.53,null,{"$f":"SUM(L121:L127)","v":71.71}]
[{"$f":"A121","v":2},{"$f":"B121","v":1},"Обед","закуска"]
[null,null,null,"1 блюдо","Борщ с капустой и картофелем ",200,1.45,12.85,21.2,184.3,27,6.0505]
[null,null,null,"2 блюдо","Каша ячневая рассыпчатая с говяжьей котлетой","120\\45",13.03,11.08,36.01,189,9,38.5795]
[null,null,null,"напиток","Сок осветленный ",196,1.06,0,12.83,85.11,null,16.66]
[null,null,null,"хлеб бел.","Хлеб  пшеничный",40,3.92,0.48,19.88,152.32,null,2.32]
[null,null,null,"фрукты","Яблоки",90,0.55,0.55,13.64,40.92,null,8.1]
[]
[]
[]
[null,null,null,"итого",null,{"$f":"SUM(F129:F137)","v":526},{"$f":"SUM(G129:G137)","v":20.01},24.96,103.56,651.65,null,{"$f":"SUM(L129:L137)","v":71.71}]
[{"$f":"A121","v":2},{"$f":"B121","v":1},"Итого за день:",null,null,{"$f":"F128+F138","v":1160},{"$f":"G128+G138","v":57.97},{"$f":"H128+H138","v":61},{"$f":"I128+I138","v":196.69},{"$f":"J128+J138","v":1565.18},null,{"$f":"L128+L138","v":143.42}]
[2,2,"Завтрак","гор.блюдо","Гуляш из грудки птицы",90,10.51,9.99,16.19,265.19,46,19.289]
[null,null,null,"2 блюдо","Макаронные изделия отварные с маслом","125\\40",5.52,4.52,26.45,132.5,10,4.8114]
[null,null,null,"хлеб","Хлеб пшеничный с сыром",40,5.76,2.4,19.53,177,null,2.32]
[{"$nulls":4},"Кексы",33.33,1.08,0,13.01,86.34,null,13.9986]
[null,null,null,"фрукты","Яблоки",100,0.55,0.55,13.64,40.92,null,9]
[null,null,null,"напиток","Сок фруктовый",200,1.06,0,12.83,85.11,null,17]
[null,null,null,"закуска","Салат из капусты с горошком",57,1.31,2.57,3.71,43.49,43,5.291]
[null,null,null,"итого",null,{"$f":"SUM(F140:F146)","v":520.33},{"$f":"SUM(G140:G146)","v":25.79},20.03,105.36,830.55,null,{"$f":"SUM(L140:L146)","v":71.71}]
[{"$f":"A140","v":2},{"$f":"B140","v":2},"Обед","закуска"]
[null,null,null,"1 блюдо","Суп молочный с рисом",200,4.82,3.21,30.11,132.4,35,14.449]
[null,null,null,"хлеб бел.","Хлеб пшеничный",40,3.92,0.48,19.88,152.32,null,2.32]
[null,null,null,"2 блюдо","Каша пшеничная с тефтелями из говядины","120\\46",1.08,0,13.01,86.34,9,39.231]
[null,null,null,"напиток","Чай с сахаром",40,0,0,13.45,28,20,1.71]
[{"$nulls":4},"Вафли",20,0.82,5.4,12,61.25,null,5]
[null,null,null,"фрукты","Яблоко",100,0.55,0.55,13.64,40.92,null,9]
[]
[]
[null,null,null,"итого",null,{"$f":"SUM(F148:F156)","v":400},{"$f":"SUM(G148:G156)","v":11.19},9.64,102.09,501.23,null,{"$f":"SUM(L148:L156)","v":71.71}]
[{"$f":"A140","v":2},{"$f":"B140","v":2},"Итого за день:",null,null,{"$f":"F147+F157","v":920.33},{"$f":"G147+G157","v":36.98},{"$f":"H147+H157","v":29.67},{"$f":"I147+I157","v":207.45},{"$f":"J147+J157","v":1331.78},null,143.42]
[2,3,"Завтрак","гор.блюдо","Пюре с рыбной котлетой ","210\\45",22,27,120,488.69,39,36.393]
[null,null,null,"хлеб","Хлеб пшеничный",40,3.92,0.48,19.88,152.32,null,2.32]
[null,null,null,"гор.напиток","Чай с сахаром",200,1.06,0,12.83,85.11,20,1.71]
[null,null,null,"фрукты","Яблоки",96,0.5,0.5,12.4,37.2,null,9]
[{"$nulls":4},"Мини рулеты (бисквитные)",35,1.4,6.65,19.95,147,null,17.85]
[null,null,null,"закуска","Салат картофельный с зеленным горошком",60,1.8,2.88,6.06,57.18,59,4.437]
[]
[null,null,null,"итого",null,{"$f":"SUM(F159:F165)","v":431},{"$f":"SUM(G159:G165)","v":30.68},37.51,191.12,967.5,null,{"$f":"SUM(L159:L165)","v":71.71}]
[{"$f":"A159","v":2},{"$f":"B159","v":3},"Обед","закуска"]
[null,null,null,"1 блюдо","Суп картофельный с курицей",200,2.42,1.9,5.21,96.95,33,14.087]
[null,null,null,"2 блюдо","Гуляш из грудки курицы ",79,9.23,8.77,14.21,232.85,46,18.383]
[null,null,null,"гарнир","Каша гречневая расыпчатая",126,11.44,2.66,8.98,168.35,9,5.92]
[null,null,null,"напиток","Сок фруктовый",200,1.06,0,12.83,85.11,null,17]
[{"$nulls":4},"Вафли",20,0.82,5.4,12,61.25,null,5]
[null,null,null,"фрукты","Груши",100,0.4,0.3,10.3,47,null,9]
[null,null,null,"хлеб бел.","Хлеб пшеничный",40,3.92,0.48,19.88,152.32,null,2.32]
[]
[null,null,null,"итого",null,{"$f":"SUM(F167:F175)","v":765},{"$f":"SUM(G167:G175)","v":29.29},19.51,83.41,843.83,null,{"$f":"SUM(L167:L175)","v":71.71}]
[{"$f":"A159","v":2},{"$f":"B159","v":3},"Итого за день:",null,null,{"$f":"F166+F176","v":1196},{"$f":"G166+G176","v":59.97},{"$f":"H166+H176","v":57.02},{"$f":"I166+I176","v":274.53},{"$f":"J166+J176","v":1811.33},null,143.42]
[2,4,"Завтрак","гор.блюдо","Плов с курицей",191,22.06,20.2,22.57,361.4,4,32.668]
[null,null,null,"закуска","Салат из капусты с горошком",47,1.11,2.18,3.15,36.97,43,8.01]
[null,null,null,"напиток","Сок фруктовый",200,1.04,0,12.64,83.83,null,2.32]
[{"$nulls":4},"Кексы",33.33,0.1,0.38,6.01,8.4,null,1.862]
[null,null,null,"фрукты","Яблоки",110,0.49,0.49,12.03,36.08,null,9]
[null,null,null,"хлеб","Хлеб пшеничный",40,3.92,0.48,19.88,152.32,null,17.85]
[]
[null,null,null,"итого",null,{"$f":"SUM(F178:F184)","v":621.33},{"$f":"SUM(G178:G184)","v":28.72},23.73,76.28,679,null,{"$f":"SUM(L178:L184)","v":71.71}]
[{"$f":"A178","v":2},{"$f":"B178","v":4},"Обед","закуска"]
[null,null,null,"1 блюдо","Суп фасолевый с овощами и курицей",200,5.06,0.64,22.06,108.68,40,32.2]
[null,null,null,"2 блюдо","Вареники со сметаной",100,9.23,8.77,14.21,232.85,42,21.66]
[null,null,null,"напиток","Сок фруктовый",195,1.06,0,12.83,85.11,null,2.32]
[{"$nulls":4},"Мини рулеты (бисквитные)",35,1.4,6.65,19.95,147,null,1.71]
[null,null,null,"хлеб бел.","Хлеб пшеничный",40,3.92,0.48,19.88,152.32,null,8.82]
[null,null,null,"фрукты","Яблоки",90,0.55,0.55,13.64,40.92,null,5]
[]
[]
[null,null,null,"итого",null,{"$f":"SUM(F186:F194)","v":660},{"$f":"SUM(G186:G194)","v":21.22},17.09,102.57,766.88,null,{"$f":"SUM(L186:L194)","v":71.71}]
[{"$f":"A178","v":2},{"$f":"B178","v":4},"Итого за день:",null,null,{"$f":"F185+F195","v":1281.33},{"$f":"G185+G195","v":49.94},{"$f":"H185+H195","v":40.82},{"$f":"I185+I195","v":178.85},{"$f":"J185+J195","v":1445.88},null,143.42]
[2,5,"Завтрак","гор.блюдо","Плов с курицей",225,25.95,23.76,26.55,425.18,4,21.3814]
[null,null,null,"хлеб","Хлеб пшеничный",40,3.92,0.48,19.88,152.32,null,2.32]
[null,null,null,"закуска","Яйцо отварное",40,5.08,4.6,0.28,63,8,8.01]
[null,null,null,"напиток","Сок осветленный ",200,1.06,0,12.83,85.11,null,17]
[{"$nulls":4},"Кексы",33.33,0.1,0.38,6.01,8.4,null,13.9986]
[null,null,null,"фрукты","Яблоки",100,0.55,0.55,13.64,40.92,null,9]
[]
[null,null,null,"итого",null,{"$f":"SUM(F197:F203)","v":638.33},{"$f":"SUM(G197:G203)","v":36.66},29.77,79.19,774.93,null,{"$f":"SUM(L197:L203)","v":71.71}]
[{"$f":"A197","v":2},{"$f":"B197","v":5},"Обед","закуска"]
[null,null,null,"1 блюдо","Суп картофельный вегетарианский",200,2.91,2.29,21.02,116.39,33,3.657]
[null,null,null,"2 блюдо","Макароны отварные с  говяжьей котлетой","125\\45",12.52,11.7,33.52,132.5,10,38.833]
[null,null,null,"гарнир","Хлеб пшеничный",40,3.92,0.48,19.88,152.32,null,2.32]
[null,null,null,"напиток","Сок осветленный ",200,1.06,0,12.83,85.11,null,17]
[null,null,null,"хлеб бел.","Яблоки",95,0.5,0.5,12.4,37.2,null,9.9]
[null,null,null,"хлеб черн."]
[]
[]
[null,null,null,"итого",null,{"$f":"SUM(F205:F213)","v":535},{"$f":"SUM(G205:G213)","v":20.91},14.97,99.65,523.52,null,{"$f":"SUM(L205:L213)","v":71.71}]
[{"$f":"A197","v":2},{"$f":"B197","v":5},"Итого за день:",null,null,{"$f":"F204+F214","v":1173.33},{"$f":"G204+G214","v":57.57},{"$f":"H204+H214","v":44.74},{"$f":"I204+I214","v":178.84},{"$f":"J204+J214","v":1298.45},null,143.42]
[2,6,"Завтрак","гор.блюдо"]
[]
[null,null,null,"гор.напиток"]
[null,null,null,"хлеб"]
[null,null,null,"фрукты"]
[]
[]
[null,null,null,"итого",null,{"$f":"SUM(F216:F222)","v":0},{"$f":"SUM(G216:G222)","v":0},0,0,0,null,{"$f":"SUM(L216:L222)","v":0}]
[2,{"$f":"B216","v":6},"Обед","закуска"]
[null,null,null,"1 блюдо","Щи из свежей капусты  с картофелем",250,2,5,11,100,54,4.167]
[null,null,null,"2 блюдо","Плов с курицей",225,25.95,23.76,26.55,425.18,4,21.373]
[null,null,null,"фрукты","Яблоки",100,0.55,0.55,13.64,40.92,null,9]
[null,null,null,"хлеб бел.","Хлеб пшеничный",40,3.92,0.48,19.88,152.32,null,2.32]
[null,null,null,"напиток","Сок осветленный",200,1.06,0,12.83,85.11,null,17]
[{"$nulls":4},"Мини рулеты (бисквитные)",35,1.4,6.65,19.95,147,null,17.85]
[]
[]
[null,null,null,"итого",null,{"$f":"SUM(F224:F232)","v":850},{"$f":"SUM(G224:G232)","v":34.88},36.44,103.85,950.53,null,{"$f":"SUM(L224:L232)","v":71.71}]
[null,{"$f":"B216","v":6},"Итого за день:",null,null,{"$f":"F223+F233","v":850},{"$f":"G223+G233","v":34.88},36.44,103.85,950.53,null,{"$f":"L223+L233","v":71.71}]
[2,null,"Среднее значение за период:",null,null,{"$f":"(F45+F64+F83+F102+F140+F159+F178+F197+#REF!+F234)/(IF(F45=0,0,1)+IF(F64=0,0,1)+IF(F83=0,0,1)+IF(F102=0,0,1)+IF(F140=0,0,1)+IF(F159=0,0,1)+IF(F178=0,0,1)+IF(F197=0,0,1)+IF(#REF!=0,0,1)+IF(F234=0,0,1))","v":{"$error":"#VALUE!"}},{"$f":"(G45+G64+G83+G102+G140+G159+G178+G197+#REF!+G234)/(IF(G45=0,0,1)+IF(G64=0,0,1)+IF(G83=0,0,1)+IF(G102=0,0,1)+IF(G140=0,0,1)+IF(G159=0,0,1)+IF(G178=0,0,1)+IF(G197=0,0,1)+IF(#REF!=0,0,1)+IF(G234=0,0,1))","v":{"$error":"#REF!"}},{"$f":"(H45+H64+H83+H102+H140+H159+H178+H197+#REF!+H234)/(IF(H45=0,0,1)+IF(H64=0,0,1)+IF(H83=0,0,1)+IF(H102=0,0,1)+IF(H140=0,0,1)+IF(H159=0,0,1)+IF(H178=0,0,1)+IF(H197=0,0,1)+IF(#REF!=0,0,1)+IF(H234=0,0,1))","v":{"$error":"#REF!"}},{"$f":"(I45+I64+I83+I102+I140+I159+I178+I197+#REF!+I234)/(IF(I45=0,0,1)+IF(I64=0,0,1)+IF(I83=0,0,1)+IF(I102=0,0,1)+IF(I140=0,0,1)+IF(I159=0,0,1)+IF(I178=0,0,1)+IF(I197=0,0,1)+IF(#REF!=0,0,1)+IF(I234=0,0,1))","v":{"$error":"#REF!"}},{"$f":"(J45+J64+J83+J102+J140+J159+J178+J197+#REF!+J234)/(IF(J45=0,0,1)+IF(J64=0,0,1)+IF(J83=0,0,1)+IF(J102=0,0,1)+IF(J140=0,0,1)+IF(J159=0,0,1)+IF(J178=0,0,1)+IF(J197=0,0,1)+IF(#REF!=0,0,1)+IF(J234=0,0,1))","v":{"$error":"#REF!"}},null,{"$f":"(L45+L64+L83+L102+L140+L159+L178+L197+#REF!+L234)/(IF(L45=0,0,1)+IF(L64=0,0,1)+IF(L83=0,0,1)+IF(L102=0,0,1)+IF(L140=0,0,1)+IF(L159=0,0,1)+IF(L178=0,0,1)+IF(L197=0,0,1)+IF(#REF!=0,0,1)+IF(L234=0,0,1))","v":{"$error":"#REF!"}}]